BEGIN:VCALENDAR
VERSION:2.0
PRODID:-//Surrey Heath Singers - ECPv6.15.17.1//NONSGML v1.0//EN
CALSCALE:GREGORIAN
METHOD:PUBLISH
X-WR-CALNAME:Surrey Heath Singers
X-ORIGINAL-URL:https://surreyheathsingers.org.uk
X-WR-CALDESC:Events for Surrey Heath Singers
REFRESH-INTERVAL;VALUE=DURATION:PT1H
X-Robots-Tag:noindex
X-PUBLISHED-TTL:PT1H
BEGIN:VTIMEZONE
TZID:Europe/London
BEGIN:DAYLIGHT
TZOFFSETFROM:+0000
TZOFFSETTO:+0100
TZNAME:BST
DTSTART:20250330T010000
END:DAYLIGHT
BEGIN:STANDARD
TZOFFSETFROM:+0100
TZOFFSETTO:+0000
TZNAME:GMT
DTSTART:20251026T010000
END:STANDARD
BEGIN:DAYLIGHT
TZOFFSETFROM:+0000
TZOFFSETTO:+0100
TZNAME:BST
DTSTART:20260329T010000
END:DAYLIGHT
BEGIN:STANDARD
TZOFFSETFROM:+0100
TZOFFSETTO:+0000
TZNAME:GMT
DTSTART:20261025T010000
END:STANDARD
BEGIN:DAYLIGHT
TZOFFSETFROM:+0000
TZOFFSETTO:+0100
TZNAME:BST
DTSTART:20270328T010000
END:DAYLIGHT
BEGIN:STANDARD
TZOFFSETFROM:+0100
TZOFFSETTO:+0000
TZNAME:GMT
DTSTART:20271031T010000
END:STANDARD
END:VTIMEZONE
BEGIN:VEVENT
DTSTART;VALUE=DATE:20260314
DTEND;VALUE=DATE:20260315
DTSTAMP:20260424T092835
CREATED:20260219T092732Z
LAST-MODIFIED:20260219T092732Z
UID:3891-1773446400-1773532799@surreyheathsingers.org.uk
SUMMARY:Windsor & Eton Choral Society
DESCRIPTION:
URL:https://surreyheathsingers.org.uk/event/windsor-eton-choral-society/
CATEGORIES:Choral Concert Club
ATTACH;FMTTYPE=image/jpeg:https://surreyheathsingers.org.uk/wp-content/uploads/2026/02/wecsn.jpg
END:VEVENT
END:VCALENDAR